BEGIN:VCALENDAR
VERSION:2.0
PRODID:-//Nevada Minority Health and Equity Coalition - ECPv6.15.11//NONSGML v1.0//EN
CALSCALE:GREGORIAN
METHOD:PUBLISH
X-ORIGINAL-URL:https://nmhec.org
X-WR-CALDESC:Events for Nevada Minority Health and Equity Coalition
REFRESH-INTERVAL;VALUE=DURATION:PT1H
X-Robots-Tag:noindex
X-PUBLISHED-TTL:PT1H
BEGIN:VTIMEZONE
TZID:America/Los_Angeles
BEGIN:DAYLIGHT
TZOFFSETFROM:-0800
TZOFFSETTO:-0700
TZNAME:PDT
DTSTART:20200308T100000
END:DAYLIGHT
BEGIN:STANDARD
TZOFFSETFROM:-0700
TZOFFSETTO:-0800
TZNAME:PST
DTSTART:20201101T090000
END:STANDARD
BEGIN:DAYLIGHT
TZOFFSETFROM:-0800
TZOFFSETTO:-0700
TZNAME:PDT
DTSTART:20210314T100000
END:DAYLIGHT
BEGIN:STANDARD
TZOFFSETFROM:-0700
TZOFFSETTO:-0800
TZNAME:PST
DTSTART:20211107T090000
END:STANDARD
BEGIN:DAYLIGHT
TZOFFSETFROM:-0800
TZOFFSETTO:-0700
TZNAME:PDT
DTSTART:20220313T100000
END:DAYLIGHT
BEGIN:STANDARD
TZOFFSETFROM:-0700
TZOFFSETTO:-0800
TZNAME:PST
DTSTART:20221106T090000
END:STANDARD
END:VTIMEZONE
BEGIN:VEVENT
DTSTART;TZID=America/Los_Angeles:20210928T180000
DTEND;TZID=America/Los_Angeles:20210928T190000
DTSTAMP:20260421T072330
CREATED:20210921T170507Z
LAST-MODIFIED:20210922T185308Z
UID:10000082-1632852000-1632855600@nmhec.org
SUMMARY:Foro Telefónico: Vacunas Contra el COVID-19
DESCRIPTION:Existen muchos mitos sobre las vacunas contra el COVID-19. Obtenga información confiable sobre la vacuna. Únete con nosotros por teléfono o ve nos por una red en vivo en Facebook para obtener más información. Regístrate en vekeo.com/immunizenevada \nConéctate al foro telefónico el 28/09/2021 a las 6 p.m. llamando al 1-877-229-8493 – Code: 120749#
URL:https://nmhec.org/event/foro-telefonico-vacunas-contra-el-covid-19/
END:VEVENT
BEGIN:VEVENT
DTSTART;TZID=America/Los_Angeles:20210809T180000
DTEND;TZID=America/Los_Angeles:20210809T190000
DTSTAMP:20260421T072330
CREATED:20210730T203841Z
LAST-MODIFIED:20210804T234718Z
UID:10000086-1628532000-1628535600@nmhec.org
SUMMARY:Shop Talk: COVID-19 Facts vs. Fiction
DESCRIPTION:Let’s talk about COVID-19: Facts vs. Fiction. Join us Monday\, August 9th at 6pm over the phone or on Facebook Live!
URL:https://nmhec.org/event/shop-talk-covid-19-facts-vs-fiction/
LOCATION:Facebook Live
END:VEVENT
END:VCALENDAR