BEGIN:VCALENDAR
VERSION:2.0
PRODID:-//Nevada Minority Health and Equity Coalition - ECPv6.15.11//NONSGML v1.0//EN
CALSCALE:GREGORIAN
METHOD:PUBLISH
X-ORIGINAL-URL:https://nmhec.org
X-WR-CALDESC:Events for Nevada Minority Health and Equity Coalition
REFRESH-INTERVAL;VALUE=DURATION:PT1H
X-Robots-Tag:noindex
X-PUBLISHED-TTL:PT1H
BEGIN:VTIMEZONE
TZID:America/Los_Angeles
BEGIN:DAYLIGHT
TZOFFSETFROM:-0800
TZOFFSETTO:-0700
TZNAME:PDT
DTSTART:20210314T100000
END:DAYLIGHT
BEGIN:STANDARD
TZOFFSETFROM:-0700
TZOFFSETTO:-0800
TZNAME:PST
DTSTART:20211107T090000
END:STANDARD
BEGIN:DAYLIGHT
TZOFFSETFROM:-0800
TZOFFSETTO:-0700
TZNAME:PDT
DTSTART:20220313T100000
END:DAYLIGHT
BEGIN:STANDARD
TZOFFSETFROM:-0700
TZOFFSETTO:-0800
TZNAME:PST
DTSTART:20221106T090000
END:STANDARD
BEGIN:DAYLIGHT
TZOFFSETFROM:-0800
TZOFFSETTO:-0700
TZNAME:PDT
DTSTART:20230312T100000
END:DAYLIGHT
BEGIN:STANDARD
TZOFFSETFROM:-0700
TZOFFSETTO:-0800
TZNAME:PST
DTSTART:20231105T090000
END:STANDARD
END:VTIMEZONE
BEGIN:VEVENT
DTSTART;TZID=America/Los_Angeles:20221207T150000
DTEND;TZID=America/Los_Angeles:20221207T170000
DTSTAMP:20260425T192457
CREATED:20220610T175631Z
LAST-MODIFIED:20220801T161900Z
UID:10000083-1670425200-1670432400@nmhec.org
SUMMARY:Grants Administration - Basics
DESCRIPTION:Registration (Space is Limited)Workshop Description:\nGrant administration encompasses the duties of designing and managing the grant from pre-award through post-award closeout. These duties begin as the grant proposal is written since the fiscal responsibilities and reporting requirements need to be taken into consideration before the grant is awarded. In this introductory level workshop\, interested community agencies will learn the basics of successfully searching\, applying\, and managing grants. \nLearning Objectives:\n\nIdentify funding opportunities\nIdentify key elements of a funding notice\nIdentify key elements of a grant application\nDevelop a budget and associated budget justification\nDefine post award elements\n\nFeatured Speakers\nMora Kim\nGrants Administrator\nUniversity of Nevada\, Las Vegas \nMora graduated from UNLV with an BA in Psychology and an MPH in Biostatistics & Epidemiology. After spending 10+ years in clinical research support and management\, she moved back to Las Vegas in late 2020 to be near her family. She has an extensive background in research and is responsible for pre and post-award grant activities for the School of Public Health. \nAndré Wade\nState Director\nSilver State Equality \nAndré C. Wade is the state director for Silver State Equality. In this role he leads legislative\, fundraising and political efforts in the state of Nevada. With a Bachelor’s in Psychology and a Master’s in Public Administration\, André has worked in human services for nearly 25 years in a variety of public and nonprofit contexts working on issues such as developmental disabilities\, child welfare\, youth experiencing homelessness national policy advocacy\, diversity\, equity and inclusion\, and LGBTQ+ advocacy. André has served on several boards and committees focused on LGBTQ+ equality and inclusion such as the Human Rights Campaign’s Advisory Council for the All Children’s All Families program. Andre is a two-time appointee to Governor Sisolak’s Advisory Task Force on HIV Exposure Modernization for the State of Nevada.  A native of Las Vegas\, Nevada\, André is a certified yoga instructor who loves spending time with his partner\, Jorge\, traveling to new places and having interesting experiences attending concerts\, and sneaking in time reading\, writing and spending time with loved ones. \nFunding Disclosure: *This project is supported by the Nevada State Division of Public and Behavioral Health through Grant Number 1 NH75OT000092-01-00 from the Centers for Disease Control and Prevention (CDC). Its contents are solely the responsibility of the authors and do not necessarily represent the official views of the Division nor the CDC. Any activities performed under this sub-award shall acknowledge the funding was provided through the Division by Grant Number 1 NH75OT000092-01-00 from the CDC.
URL:https://nmhec.org/event/grants-administration-basics-2/
LOCATION:Zoom
CATEGORIES:Workshop
END:VEVENT
BEGIN:VEVENT
DTSTART;TZID=America/Los_Angeles:20221209T120000
DTEND;TZID=America/Los_Angeles:20221209T140000
DTSTAMP:20260425T192457
CREATED:20220610T181414Z
LAST-MODIFIED:20220801T162005Z
UID:10000074-1670587200-1670594400@nmhec.org
SUMMARY:Building Data Capacity To Tell Your Story Workshop
DESCRIPTION:Registration (Space is Limited)Workshop Description:\nData is a powerful tool that can shape and inform efforts at the community level. It can help pin-point areas of focus to maximize efforts when there are limited resources. This workshop will cover the value of data collection\, how to store and manage data\, and identify data resources. Participants will learn strategies to implement\, collect\, and analyze data in a way that will help increase functionality and stability of their organization\, as well as learn the basics of transforming data into a storytelling format that fits their day-to-day work. \nLearning Objectives:\n\nIdentify best practices for data collection\nDescribe how to store\, manage\, and share data\nUtilize data to tell a story\n\nFeatured Speakers\nChristopher Johansen\, PhD\, MPH\nAssistant Professor\, Department of Social and Behavioral Health\nUNLV School of Public Health \nChristopher Johansen\, PhD\, MPH\, is an Assistant Professor of Social and Behavioral Health at UNLV School of Public Health. His research aims to address Latino health disparities. He was born and raised in Southern California and is the first male in his family to graduate from college. He earned his BS in Psychology from University of California\, Davis\, his MPH from San Diego State University\, and his PhD in Health Promotion Sciences from Claremont Graduate University. Prior to coming to UNLV\, he completed a postdoctoral training at UCLA Fielding School of Public Health working on various interventions to address health disparities (e.g.\, HPV vaccination\, colorectal cancer screening\, and preschool obesity prevention). Dr. Johansen strives to train and work alongside the next generation of public health practitioners in Southern Nevada. \nChibudom Yanez\nManagement Analyst\nThe City of Las Vegas \nChibudom Yanez has lived in Las Vegas for little over seven years. She works as a Management Analyst for the City of Las Vegas in her current role\, but she has worked in various government agencies and non-profit foundations in the Las Vegas Valley. Chibudom received a Bachelor’s degree in Nutrition Education from the College of Saint Benedicts in St. Joseph\, Minnesota.  She was born in Nigeria\, and immigrated to the United States at a young age; which was the catalyst for her desire to engage under-served populations and ethnically diverse cultures. The work\, outreach\, and projects she has embarked on aims to focus on underserved demographics locally and internationally. Her work experience ranges from Foster Care Services\, case management at a local WIC and Early Head Start organization\, and international partnerships and programming for equity and education in multiple Spanish speaking countries. Chibudom has facilitated and created trainings for family preservation\, nutrition education\, and building community engagement and response. \nFunding Disclosure: *This project is supported by the Nevada State Division of Public and Behavioral Health through Grant Number 1 NH75OT000092-01-00 from the Centers for Disease Control and Prevention (CDC). Its contents are solely the responsibility of the authors and do not necessarily represent the official views of the Division nor the CDC. Any activities performed under this sub-award shall acknowledge the funding was provided through the Division by Grant Number 1 NH75OT000092-01-00 from the CDC.
URL:https://nmhec.org/event/building-data-capacity-to-tell-your-story-workshop/
LOCATION:Zoom
CATEGORIES:Workshop
END:VEVENT
BEGIN:VEVENT
DTSTART;TZID=America/Los_Angeles:20221214T100000
DTEND;TZID=America/Los_Angeles:20221214T120000
DTSTAMP:20260425T192457
CREATED:20220610T174322Z
LAST-MODIFIED:20221104T215018Z
UID:10000026-1671012000-1671019200@nmhec.org
SUMMARY:Strategic Planning in A Rapidly Changing World
DESCRIPTION:Registration (Space is Limited)Workshop Description:\nAuthor Lewis Carroll once shared\, “If you don’t know where you’re going\, any road will get you there.” The same applies to organizations without a strategic direction or plan. Regardless of your organization’s size\, every organization benefits from setting some directional compass points to help you reach your end goal. This workshop will provide an overview of the value of strategic planning and components of the strategic planning process so attendees leave prepared to develop and implement their own strategic plans in the future. \nLearning Objectives:\n\nEvaluate your strategic plan readiness\nApply the Strategic Planning Life Cycle to your organization\nFamiliarize yourself with strategic planning terms\nPrepare/develop the framework of your plan with a corresponding timeline for the planning process\n\nFeatured Speaker\nStacey Wedding \nChief Strategist\nThe Stacey Wedding Group \nFondly described as the fairy godmother of nonprofits\, Stacey Wedding moves organizations and their leadership teams from surviving to thriving.  She has spent 25 years devoted to elevating charitable organizations from the inside out\, building organizational capacity to change our communities\, countries\, and world. Stacey and her team at The Stacey Wedding Group provide expertise in board governance and development\, strategic planning\, and executive coaching. \nPrior to establishing her company\, Stacey served in an executive staff position at the Nevada Community Foundation\, where she helped grow the organization from $10 million to $35 million. \nA lifelong Nevada resident\, Stacey’s journey into the magical and sometimes messy world of nonprofits began at the age of 5 when she helped her mom—an Executive Director at the time—volunteer and fundraise to find a cure for Type 1 diabetes. \nStacey and her team contribute 150 hours of volunteer time annually\, and she donates 10% of her company’s annual revenues. A proud graduate of UNLV\, Stacey serves on the board of the UNLV Honors College. She also is the Board Chair of Wagging Tails Rescue. \nLearn more about Stacey at www.staceywedding.com or check out the Nonprofit Everything podcast that she co-hosts\, www.nonprofiteverything.com. \nFunding Disclosure: *This project is supported by the Nevada State Division of Public and Behavioral Health through Grant Number 1 NH75OT000092-01-00 from the Centers for Disease Control and Prevention (CDC). Its contents are solely the responsibility of the authors and do not necessarily represent the official views of the Division nor the CDC. Any activities performed under this sub-award shall acknowledge the funding was provided through the Division by Grant Number 1 NH75OT000092-01-00 from the CDC.
URL:https://nmhec.org/event/strategic-planning-workshop/
LOCATION:Zoom
CATEGORIES:Workshop
END:VEVENT
BEGIN:VEVENT
DTSTART;TZID=America/Los_Angeles:20221221T110000
DTEND;TZID=America/Los_Angeles:20221221T120000
DTSTAMP:20260425T192457
CREATED:20220112T192922Z
LAST-MODIFIED:20230706T222011Z
UID:10000063-1671620400-1671624000@nmhec.org
SUMMARY:Nevada Vaccine Equity Collaborative Monthly Meeting
DESCRIPTION:Join us every third Wednesday of the month at 11AM PST for the Nevada Vaccine Equity Collaborative meeting! \nThe NVEC is a partnership comprised of diverse and interdisciplinary members of the public\, as well as private\, state\, and community partners\, co-led by Immunize Nevada and the Nevada Minority Health and Equity Coalition. \nMembers of the NVEC include state legislators\, community members representing different ethnicities and demographics\, healthcare providers\, faith-based leaders\, public and private representatives. \nRegister
URL:https://nmhec.org/event/nevada-vaccine-equity-collaborative-monthly-meeting/2022-12-21/
LOCATION:Zoom
END:VEVENT
END:VCALENDAR