BEGIN:VCALENDAR
VERSION:2.0
PRODID:-//Nevada Minority Health and Equity Coalition - ECPv6.15.11//NONSGML v1.0//EN
CALSCALE:GREGORIAN
METHOD:PUBLISH
X-WR-CALNAME:Nevada Minority Health and Equity Coalition
X-ORIGINAL-URL:https://nmhec.org
X-WR-CALDESC:Events for Nevada Minority Health and Equity Coalition
REFRESH-INTERVAL;VALUE=DURATION:PT1H
X-Robots-Tag:noindex
X-PUBLISHED-TTL:PT1H
BEGIN:VTIMEZONE
TZID:America/Los_Angeles
BEGIN:DAYLIGHT
TZOFFSETFROM:-0800
TZOFFSETTO:-0700
TZNAME:PDT
DTSTART:20190310T100000
END:DAYLIGHT
BEGIN:STANDARD
TZOFFSETFROM:-0700
TZOFFSETTO:-0800
TZNAME:PST
DTSTART:20191103T090000
END:STANDARD
BEGIN:DAYLIGHT
TZOFFSETFROM:-0800
TZOFFSETTO:-0700
TZNAME:PDT
DTSTART:20200308T100000
END:DAYLIGHT
BEGIN:STANDARD
TZOFFSETFROM:-0700
TZOFFSETTO:-0800
TZNAME:PST
DTSTART:20201101T090000
END:STANDARD
BEGIN:DAYLIGHT
TZOFFSETFROM:-0800
TZOFFSETTO:-0700
TZNAME:PDT
DTSTART:20210314T100000
END:DAYLIGHT
BEGIN:STANDARD
TZOFFSETFROM:-0700
TZOFFSETTO:-0800
TZNAME:PST
DTSTART:20211107T090000
END:STANDARD
BEGIN:DAYLIGHT
TZOFFSETFROM:-0800
TZOFFSETTO:-0700
TZNAME:PDT
DTSTART:20220313T100000
END:DAYLIGHT
BEGIN:STANDARD
TZOFFSETFROM:-0700
TZOFFSETTO:-0800
TZNAME:PST
DTSTART:20221106T090000
END:STANDARD
END:VTIMEZONE
BEGIN:VEVENT
DTSTART;TZID=America/Los_Angeles:20210210T080000
DTEND;TZID=America/Los_Angeles:20210210T170000
DTSTAMP:20260422T180254
CREATED:20210510T185828Z
LAST-MODIFIED:20210510T192357Z
UID:10000077-1612944000-1612976400@nmhec.org
SUMMARY:Myths vs Facts about the COVID-19 vaccine
DESCRIPTION:FEBRUARY 10\, 2021\n“Myths vs Facts about the COVID-19 vaccine”\n\n\nCOVID-19 has disproportionately impacted communities of color. Now that there’s a vaccine\, it’s time to know the facts. Join our panel of speakers as they dispel myths and provide facts about the development\, effectiveness\, safety\, and distribution of the COVID-19 vaccine and discuss the importance of the COVID-19 vaccines for communities of color. \nJoin the panel on Wednesday\, February 10\, 2021 from 6:00 to 7:30 PM:\n– Register and submit your questions at bit.ly/covidmythvsfact (bit.ly/covidmythvsfact)\n– Hear the panel on KCEP – Power 88 – 88.1 FM (https://www.power88lv.com/)\n– Watch the panel on Facebook live on the NMHEC (https://www.facebook.com/nmhec/) and KCEP (https://www.facebook.com/power88vegas) Facebook pages
URL:https://nmhec.org/event/capacity-to-webinar-has-been-increased/
END:VEVENT
BEGIN:VEVENT
DTSTART;TZID=America/Los_Angeles:20200623T080000
DTEND;TZID=America/Los_Angeles:20200623T170000
DTSTAMP:20260422T180254
CREATED:20210510T192151Z
LAST-MODIFIED:20210510T192309Z
UID:10000087-1592899200-1592931600@nmhec.org
SUMMARY:Amplify Equity: COVID-19’s Impact on Nevada’s Diversity and Equity Populations.
DESCRIPTION:Webinar\n\n\nJUNE 23\, 2020 \n\nThe first webinar of this special series was focused on an overview at the regional and national levels. Learn about Nevada’s stratified data related to the Behavioral Risk Factor Surveillance System and COVID-19 Dashboard\, and hear from a panel of experts who shared perspectives from the African American\, Asian and Pacific Islander\, LatinX\, LGBTQ\, and Native American communities.
URL:https://nmhec.org/event/amplify-equity-covid-19s-impact-on-nevadas-diversity-and-equity-populations/
END:VEVENT
END:VCALENDAR