BEGIN:VCALENDAR
VERSION:2.0
PRODID:-//Nevada Minority Health and Equity Coalition - ECPv6.15.11//NONSGML v1.0//EN
CALSCALE:GREGORIAN
METHOD:PUBLISH
X-WR-CALNAME:Nevada Minority Health and Equity Coalition
X-ORIGINAL-URL:https://nmhec.org
X-WR-CALDESC:Events for Nevada Minority Health and Equity Coalition
REFRESH-INTERVAL;VALUE=DURATION:PT1H
X-Robots-Tag:noindex
X-PUBLISHED-TTL:PT1H
BEGIN:VTIMEZONE
TZID:America/Los_Angeles
BEGIN:DAYLIGHT
TZOFFSETFROM:-0800
TZOFFSETTO:-0700
TZNAME:PDT
DTSTART:20240310T100000
END:DAYLIGHT
BEGIN:STANDARD
TZOFFSETFROM:-0700
TZOFFSETTO:-0800
TZNAME:PST
DTSTART:20241103T090000
END:STANDARD
BEGIN:DAYLIGHT
TZOFFSETFROM:-0800
TZOFFSETTO:-0700
TZNAME:PDT
DTSTART:20250309T100000
END:DAYLIGHT
BEGIN:STANDARD
TZOFFSETFROM:-0700
TZOFFSETTO:-0800
TZNAME:PST
DTSTART:20251102T090000
END:STANDARD
BEGIN:DAYLIGHT
TZOFFSETFROM:-0800
TZOFFSETTO:-0700
TZNAME:PDT
DTSTART:20260308T100000
END:DAYLIGHT
BEGIN:STANDARD
TZOFFSETFROM:-0700
TZOFFSETTO:-0800
TZNAME:PST
DTSTART:20261101T090000
END:STANDARD
END:VTIMEZONE
BEGIN:VEVENT
DTSTART;TZID=America/Los_Angeles:20250128T180000
DTEND;TZID=America/Los_Angeles:20250128T193000
DTSTAMP:20260423T020922
CREATED:20250121T234406Z
LAST-MODIFIED:20250121T234609Z
UID:10000100-1738087200-1738092600@nmhec.org
SUMMARY:Amplifying Equity Webinar-Health and Wellness of Black Men
DESCRIPTION:This workshop explores the physical\, mental\, and emotional health challenges facing Black men today and aims to provide valuable tools\, resources\, and strategies to promote health and well-being. \nLearning Objectives: \n\nIdentify the key physical\, mental\, and emotional health challenges facing Black men today\, with a focus on factors such as healthcare access\, systemic inequities\, and social determinants of health.\nExplore effective strategies and tools for enhancing physical and mental health\, including approaches to stress management\, accessing support services\, and adopting healthy lifestyle habits.\nUnderstand resources and support systems available to Black men\, including community organizations\, health professionals\, and self-care practices\n\nRegister Now
URL:https://nmhec.org/event/amplifying-equity-webinar-health-and-wellness-of-black-men/
LOCATION:Zoom
END:VEVENT
END:VCALENDAR