BEGIN:VCALENDAR
VERSION:2.0
PRODID:-//Nevada Minority Health and Equity Coalition - ECPv6.15.11//NONSGML v1.0//EN
CALSCALE:GREGORIAN
METHOD:PUBLISH
X-ORIGINAL-URL:https://nmhec.org
X-WR-CALDESC:Events for Nevada Minority Health and Equity Coalition
REFRESH-INTERVAL;VALUE=DURATION:PT1H
X-Robots-Tag:noindex
X-PUBLISHED-TTL:PT1H
BEGIN:VTIMEZONE
TZID:America/Los_Angeles
BEGIN:DAYLIGHT
TZOFFSETFROM:-0800
TZOFFSETTO:-0700
TZNAME:PDT
DTSTART:20230312T100000
END:DAYLIGHT
BEGIN:STANDARD
TZOFFSETFROM:-0700
TZOFFSETTO:-0800
TZNAME:PST
DTSTART:20231105T090000
END:STANDARD
BEGIN:DAYLIGHT
TZOFFSETFROM:-0800
TZOFFSETTO:-0700
TZNAME:PDT
DTSTART:20240310T100000
END:DAYLIGHT
BEGIN:STANDARD
TZOFFSETFROM:-0700
TZOFFSETTO:-0800
TZNAME:PST
DTSTART:20241103T090000
END:STANDARD
BEGIN:DAYLIGHT
TZOFFSETFROM:-0800
TZOFFSETTO:-0700
TZNAME:PDT
DTSTART:20250309T100000
END:DAYLIGHT
BEGIN:STANDARD
TZOFFSETFROM:-0700
TZOFFSETTO:-0800
TZNAME:PST
DTSTART:20251102T090000
END:STANDARD
END:VTIMEZONE
BEGIN:VEVENT
DTSTART;TZID=America/Los_Angeles:20240724T130000
DTEND;TZID=America/Los_Angeles:20240724T150000
DTSTAMP:20260421T053746
CREATED:20240529T185846Z
LAST-MODIFIED:20240529T185846Z
UID:10000094-1721826000-1721833200@nmhec.org
SUMMARY:Grant Writing 101 for Non-Profits
DESCRIPTION:Register Here (Space is Limited)Workshop Description:\nThis workshop will provide an overview of best practices for grant writing for non-profit organizations. Participants will learn about funding sources\, grant proposals\, program narratives\, and tips and strategies for grant writing for non-profit and public institutions. \nLearning Objectives:\n\nIdentify common funding sources\nCompare different types of grants\nUnderstand the general outline of a grant and the application process\nDescribe best practices in grant writing and obtaining funding\nList where to find grant writing resources and future workshops\n\nFeatured Speakers\nJason Flatt\, PhD\, MPH\nAssociate Professor\nSchool of Public Health\, University of Nevada\, Las Vegas \nJason D. Flatt\, PhD\, MPH (Pronouns: He/Him/They/Them) is an Associate Professor at the University of Nevada\, Las Vegas\, School of Public Health\, Department of Social and Behavioral Health. Jason’s $5+ million-funded NIH research portfolio works to better understand health concerns and needs of diverse sexual and gender minorities or LGBTQIA+ (lesbian\, gay\, bisexual\, transgender\, queer\, intersex\, asexual and additional identities) people living with Alzheimer’s and Parkinson’s disease\, and their caregivers and care providers. Learn more about Jason’s research at www.RainbowsofAging.org. \nDr. Flatt has experience with grant writing\, including current and past funding from the National Institutes of Health (NIH)\, California Health Care Foundation\, Michael J. Fox Foundation\, Alzheimer’s Association\, institutional grants\, foundations\, non-profit contracts\, and an NIH Loan Repayment award\, as well as being awarded competitive grants for training and fellowships\, graduate school scholarships\, and travel awards to attend national conferences. He also serves on grant review committees for the National Institute on Aging and Alzheimer’s Association. \nLaura Hernandez\nDirector of Youth and Senior Services\nThe LGBTQ+ Center of Southern Nevada \nLaura Hernandez is the Director of Youth and Senior Programs at the LGBTQ+ Center of Southern Nevada. Previously\, Laura served as the Executive Director of Gender Justice Nevada and co-founded the Nevada Alliance for Student Diversity. In these capacities\, she actively engaged in legislative and policy advocacy to safeguard the rights of transgender students in Nevada schools. \nAs a grant writer\, Laura has successfully secured funding from notable sources including the Office for Victims of Crime (OVC)\, Groundswell Fund\, The Gill Foundation\, The American Heart Association\, Scan Health Plan\, NV Energy\, The Engelstad Foundation\, and the Third Wave Fund. \nLaura is currently focused on enhancing and expanding programs for LGBTQ+ youth and seniors through strategic grant initiatives. Her insight into the grant writing process and her dedicated approach to community-focused projects contribute significantly to the development and sustainability of programs at the Center. \nFunding Disclosure: Funding for this webinar was made possible (in part) by the CDC Foundation. The views expressed in written conference materials or publications and by speakers and moderators do not necessarily reflect the official policies of the CDC Foundation\, nor does the mention of trade names\, commercial practices\, or organizations imply endorsement by the CDC Foundation.
URL:https://nmhec.org/event/grant-writing-101-for-non-profits-3/
LOCATION:Zoom
CATEGORIES:Workshop
END:VEVENT
END:VCALENDAR