BEGIN:VCALENDAR
VERSION:2.0
PRODID:-//Nevada Minority Health and Equity Coalition - ECPv6.15.11//NONSGML v1.0//EN
CALSCALE:GREGORIAN
METHOD:PUBLISH
X-ORIGINAL-URL:https://nmhec.org
X-WR-CALDESC:Events for Nevada Minority Health and Equity Coalition
REFRESH-INTERVAL;VALUE=DURATION:PT1H
X-Robots-Tag:noindex
X-PUBLISHED-TTL:PT1H
BEGIN:VTIMEZONE
TZID:America/Los_Angeles
BEGIN:DAYLIGHT
TZOFFSETFROM:-0800
TZOFFSETTO:-0700
TZNAME:PDT
DTSTART:20220313T100000
END:DAYLIGHT
BEGIN:STANDARD
TZOFFSETFROM:-0700
TZOFFSETTO:-0800
TZNAME:PST
DTSTART:20221106T090000
END:STANDARD
BEGIN:DAYLIGHT
TZOFFSETFROM:-0800
TZOFFSETTO:-0700
TZNAME:PDT
DTSTART:20230312T100000
END:DAYLIGHT
BEGIN:STANDARD
TZOFFSETFROM:-0700
TZOFFSETTO:-0800
TZNAME:PST
DTSTART:20231105T090000
END:STANDARD
BEGIN:DAYLIGHT
TZOFFSETFROM:-0800
TZOFFSETTO:-0700
TZNAME:PDT
DTSTART:20240310T100000
END:DAYLIGHT
BEGIN:STANDARD
TZOFFSETFROM:-0700
TZOFFSETTO:-0800
TZNAME:PST
DTSTART:20241103T090000
END:STANDARD
END:VTIMEZONE
BEGIN:VEVENT
DTSTART;TZID=America/Los_Angeles:20230315T110000
DTEND;TZID=America/Los_Angeles:20230315T120000
DTSTAMP:20260425T141751
CREATED:20220112T192922Z
LAST-MODIFIED:20230706T222011Z
UID:10000066-1678878000-1678881600@nmhec.org
SUMMARY:Nevada Vaccine Equity Collaborative Monthly Meeting
DESCRIPTION:Join us every third Wednesday of the month at 11AM PST for the Nevada Vaccine Equity Collaborative meeting! \nThe NVEC is a partnership comprised of diverse and interdisciplinary members of the public\, as well as private\, state\, and community partners\, co-led by Immunize Nevada and the Nevada Minority Health and Equity Coalition. \nMembers of the NVEC include state legislators\, community members representing different ethnicities and demographics\, healthcare providers\, faith-based leaders\, public and private representatives. \nRegister
URL:https://nmhec.org/event/nevada-vaccine-equity-collaborative-monthly-meeting/2023-03-15/
LOCATION:Zoom
END:VEVENT
BEGIN:VEVENT
DTSTART;TZID=America/Los_Angeles:20230315T130000
DTEND;TZID=America/Los_Angeles:20230315T150000
DTSTAMP:20260425T141751
CREATED:20220926T155932Z
LAST-MODIFIED:20230128T003156Z
UID:10000008-1678885200-1678892400@nmhec.org
SUMMARY:Community-Based Participatory Research and the Roles of Power\, Trust\, and Culture Part 2
DESCRIPTION:Registration (Space is Limited)Workshop Description:\nCommunity-Based Participatory Research (CBPR) is the combination of research and partnership building when assessing a community priority. Partnerships are diverse\, often including individuals from specific communities\, organizations\, academic institutions\, and/or coalitions. The CBPR approach strives for shared decision making and involvement of partners and community members during all phases of the process. This two-part workshop will introduce CBPR\, its principles\, critical points in partnership development and issues throughout the research and partnership processes. Issues related to power dynamics\, trust\, and culture will be highlighted in the workshop sessions. This workshop is inclusive for anyone interested in research and assessment. Each session will incorporate education for organizations implementing and evaluating community programs. \nLearning Objectives:\n\nUnderstand CBPR within the scope of community engaged research\nIdentify where community participation occurs in the research and evaluation process\nProvide strategies for partner engagement and partnership development\n\nFeatured Speakers\nJulie Lucero\, PhD\, MPH\nAssociate Dean\, College of Health\nAssociate Professor\, Department of Health and Kinesiology\nUniversity of Utah \nJulie E. Lucero\, PhD MPH\, is an associate dean\, College of Health\, and associate professor\, Department of Health and Kinesiology\, at the University of Utah. Lucero’s research is centered on the identification of modifiable social determinants to reduce the impact of health inequities within underrepresented populations. Using mixed methods\, dissemination and implementation science\, and community based participatory research (CBPR)\, her projects have focused on examining factors associated with substance abuse\, mental health\, housing and food security\, and  positive youth development. Lucero has been involved with CBPR projects in collaboration with Native American/Indigenous\, Latino/Hispano\, young adult\, and LGBTQ+ communities. Much of Lucero’s research has contributed to advancing the science of community engaged research approaches. Lucero strives to achieve health equity by means of education\, research\, diversity and inclusion\, and policy development. \nKadie Zeller\n\nExecutive Director\nOm Namo\nProgram Specialist\nNevada Afterschool Network\nNevada Institute for Children’s Research and Policy \n\nKadie Zeller is an enrolled citizen of the Choctaw Nation of Oklahoma and of the people of Kiribati in the South Pacific. She is currently a Program Specialist for the Nevada Afterschool Network at NICRP. She is also a Certified Prevention Specialist and has started her own nonprofit\, in Fallon\, to share mindfulness and other wellness programs to youth and adults. \nKadie received her Bachelors Arts in Psychology\, with a focus on public service\, from the University of California\, San Diego. Her background is in primary and secondary substance prevention and mental health wellness for historically misrepresented community members in Rural and Frontier Nevada. \nKadie’s passion is connecting communities with the tools and resources needed to create positive systems of change and sustain intergenerational healing. \nFunding Disclosure: *This project is supported by the Nevada State Division of Public and Behavioral Health through Grant Number 1 NH75OT000092-01-00 from the Centers for Disease Control and Prevention (CDC). Its contents are solely the responsibility of the authors and do not necessarily represent the official views of the Division nor the CDC. Any activities performed under this sub-award shall acknowledge the funding was provided through the Division by Grant Number 1 NH75OT000092-01-00 from the CDC.
URL:https://nmhec.org/event/cbpr-part-2/
LOCATION:Zoom
CATEGORIES:Workshop
END:VEVENT
END:VCALENDAR